BEGIN:VCALENDAR
VERSION:2.0
BEGIN:VEVENT
DTSTART;TZID=Europe/Stockholm:20250125T183000
DTEND;TZID=Europe/Stockholm:20250125T193000
DTSTAMP:20260421T144356
DESCRIPTION:Bön och lovsång, Berit Scott i Equmeniakyrkan
SEQUENCE:0
SUMMARY:Ekumeniska böneveckan 2025
UID:6868@lawebb.se
END:VEVENT
END:VCALENDAR