BEGIN:VCALENDAR
VERSION:2.0
BEGIN:VEVENT
DTSTART;TZID=Europe/Stockholm:20250125T160000
DTEND;TZID=Europe/Stockholm:20250125T170000
DTSTAMP:20260421T143830
DESCRIPTION:Bibelstudier med Berit Scott i Equmeniakyrkan
SEQUENCE:0
SUMMARY:Ekumeniska böneveckan 2025
UID:2276@lawebb.se
END:VEVENT
END:VCALENDAR