BEGIN:VCALENDAR
VERSION:2.0
BEGIN:VEVENT
DTSTART;TZID=Europe/Stockholm:20250124T180000
DTEND;TZID=Europe/Stockholm:20250124T190000
DTSTAMP:20260421T144014
DESCRIPTION:Bön i Melleruds Kristna Center
SEQUENCE:0
SUMMARY:Ekumeniska böneveckan 2025
UID:9999@lawebb.se
END:VEVENT
END:VCALENDAR