BEGIN:VCALENDAR
VERSION:2.0
BEGIN:VEVENT
DTSTART;TZID=Europe/Stockholm:20250123T100000
DTEND;TZID=Europe/Stockholm:20250123T110000
DTSTAMP:20260421T144214
DESCRIPTION:Mässa i Kyrkans hus med fika
SEQUENCE:0
SUMMARY:Ekumeniska böneveckan 2025
UID:2789@lawebb.se
END:VEVENT
END:VCALENDAR