BEGIN:VCALENDAR
VERSION:2.0
BEGIN:VEVENT
DTSTART;TZID=Europe/Stockholm:20250122T190000
DTEND;TZID=Europe/Stockholm:20250122T200000
DTSTAMP:20260421T144148
DESCRIPTION:Bön i Smyrnakyrkan
SEQUENCE:0
SUMMARY:Ekumeniska böneveckan 2025
UID:7447@lawebb.se
END:VEVENT
END:VCALENDAR