BEGIN:VCALENDAR
VERSION:2.0
BEGIN:VEVENT
DTSTART;TZID=Europe/Stockholm:20250121T100000
DTEND;TZID=Europe/Stockholm:20250121T110000
DTSTAMP:20260421T143813
DESCRIPTION:Bön och fika Equmeniakyrkan
10:00 - 12:00
SEQUENCE:0
SUMMARY:Ekumeniska böneveckan 2025
UID:3555@lawebb.se
END:VEVENT
END:VCALENDAR