BEGIN:VCALENDAR
VERSION:2.0
BEGIN:VEVENT
DTSTART;TZID=Europe/Stockholm:20250108T000000
DTEND;TZID=Europe/Stockholm:20250108T240000
DTSTAMP:20260421T144357
DESCRIPTION:På Mejeriet, 06:00 och 18:00
SEQUENCE:0
SUMMARY:Bönevecka!
UID:6642@lawebb.se
END:VEVENT
END:VCALENDAR