BEGIN:VCALENDAR
VERSION:2.0
BEGIN:VEVENT
DTSTART;TZID=Europe/Stockholm:20250106T000000
DTEND;TZID=Europe/Stockholm:20250106T240000
DTSTAMP:20260421T144552
DESCRIPTION:På Mejeriet, 06:00 och 18:00
SEQUENCE:0
SUMMARY:Bönevecka!
UID:5445@lawebb.se
END:VEVENT
END:VCALENDAR