BEGIN:VCALENDAR
VERSION:2.0
BEGIN:VEVENT
DTSTART;TZID=Europe/Stockholm:20231217T110000
DTEND;TZID=Europe/Stockholm:20231217T120000
DTSTAMP:20260422T000228
DESCRIPTION:Möte för alla på Mejeriet
Lovsång
Söndagsskola
Predikan

Välkomna!
SEQUENCE:0
SUMMARY:Gudstjänst
UID:5737@lawebb.se
END:VEVENT
END:VCALENDAR