BEGIN:VCALENDAR
VERSION:2.0
BEGIN:VEVENT
DTSTART;TZID=Europe/Stockholm:20231207T163000
DTEND;TZID=Europe/Stockholm:20231207T173000
DTSTAMP:20260422T000809
DESCRIPTION:För alla barn mellan 3-7 år. Dans, bibelberättelser, flera olika aktiviteter, fika och uppträdanden. Helt gratis!
Föräldrar är också välkomna!
Slutar 17:45.
SEQUENCE:0
SUMMARY:Minikids - 3-7 år
UID:3278@lawebb.se
END:VEVENT
END:VCALENDAR